Workbook
Name izberi: #REF!
Name strosek: #REF!

Sheet Upute
A1: OPĆE UPUTE
A2: Ovaj prilog se sastoji od radnog lista "Izravni troškovi," Opći troškovi", "Ukupni troškovi projekta" i radnog lista RM.
A3: Radni list RM sadrži podatke koji se unose iz padajućih izbornika. Isti se ne smiju mijenjati ni brisati.
A4: Propisani izgled radnih listova ne smije se mijenjati, ali je moguće u radnim listovima " Izravni troškovi, Opći troskovi", po potrebi dodavati nove retke, na način da se kopiraju postojeći retci.
A5: Ovaj obrazac je sastavni dio Zahtjeva za potporu te je isti potrebno dostaviti u tiskanom obliku (ovjeren vlastoručnim potpisom i pečatom, ako primjenjivo) te u elektronskom obliku na USB-u (radni list "Upute" nije potrebno dostavljati u tiskanom obliku)
A7: TABLICA : Izravni troškovi
A8: U Tablici „Izravni troškovi“ iz padajućih izbornika odaberite: 1. prihvatljivu aktivnost u okviru koje trošak nastaje, 2. vrstu troška, 3. prihvatljivi trošak, 4. intenzitet javne potpore.
A9: Bijela polja potrebno je ispuniti sukladno traženim podacima.
A10: Polja označena sivom bojom izračunavaju se automatski i nije ih potrebno ispunjavati. Nove retke potrebno je umetnuti unutar pripadajuće tablice, iznad posljednjeg postojećeg retka za unos troška, kopiranjem postojećeg retka sa svim formulama i padajućim izbornicima, te provjeriti jesu li dodani retci obuhvaćeni formulama za zbroj i rekapitulaciju troškova.
A11: TABLICA : Opći troškovi
A12: U Tablici "Opći troškovi" iz padajućih izbornika odaberite: 1. vrstu troška i 2. intenzitet javne potpore.
A13: Bijela polja potrebno je ispuniti sukladno traženim podacima.
... A17: VAŽNO: Obrazac predstavlja osnovni predložak. Molimo da obrazac uskladite s Obrascem 1.A. te drugom pratećom dokumentacijom. Ako nositelj projekta nema projektnog partnera, nije potreban unos podataka niti brisanje PP, ta polja ostavite prazna. Nositelj projekta sve radne listove ovjerava vlastoručnim potpisom i pečatom (ako je primjenjivo), a čime potvrđuje da su podaci za ukupan projekt istiniti i točni te da se odnose na pripadajući Zahtjev za potporu u okviru FLAG-natječaja.

Sheet Izravni troškovi
C1: Obrazac 1.B Prijavni obrazac - Proračun projekta u okviru Mjere 2. Unaprjeđenje i promocija sektora ribarstva i akvakulture
A2: Naziv projekta:
A3: Nositelj projekta:
A4: Projektni partner 1:
A5: Projektni partner 2:
A7: IZRAVNI TROŠKOVI PROJEKTA | I7: Iznos troška (u EUR)
A8: Nositelj aktivnosti | B8: Prihvatljiva aktivnost u okviru koje nastaje trošak (odabrati iz padajućeg izbornika) | C8: Vrsta troška (odabrati iz padajućeg izbornika) | D8: Naziv i kratki opis troška | E8: Naziv ponuditelja/ dobavljača/pružatelja usluge / NP (obveznici javne nabave upisati NP ako je primjenjivo) | F8: Broj ponude/predračuna /ugovora/računa i dr. /NP (obveznici javne nabave upisati NP ako je primjenjivo) | G8: Jedinica mjere (npr.komad, sat,par, usluga sl.) | H8: Količina/broj komada, broj sati | I8: Jedinična cijena bez PDV-a/ Bruto iznos Ugovora o djelu/ Autorskog ugovora | J8: % PDV-a (upisati primjenjivu stopu: 0%, 5%, 13%, 25% ili drugo) Napomena: ako je nositelj projekta ili projektni partner obveznik PDV-a i ima pravo na povrat PDV-a upisati 0 | K8: Iznos PDV-a (ako primjenjivo) | L8: Ukupna vrijednost bez PDV-a | M8: Ukupni iznos uključujući PDV (ako primjenjivo) | N8: Prihvatljiv trošak 1=DA 0=NE (odabrati iz padajućeg izbornika) | O8: Prihvatljivi troškovi (prije primjene ograničenja po aktivnosti) | P8: Intenzitet javne potpore (odabrati iz padajućeg izbornika) | Q8: Iznos sufinanciranja iz javnog izvora (prije primjene ograničenja po aktivnosti) | R8: Vlastita sredstva (prije primjene ograničenja po aktivnosti) | S8: Primjedbe/Napomene
A9: Nositelj projekta (Glavni partner - GP) | K9: =H9*I9*J9 -> 0 | L9: =M9-K9 -> 0 | M9: =H9*I9+K9 -> 0 | N9: 1 | O9: =M9*N9 -> 0 | P9: 1 | Q9: =(O9*P9) -> 0 | R9: =M9-Q9 -> 0
K10: =H10*I10*J10 -> 0 | L10: =M10-K10 -> 0 | M10: =H10*I10+K10 -> 0 | N10: 1 | O10: =M10*N10 -> 0 | P10: 1 | Q10: =(O10*P10) -> 0 | R10: =M10-Q10 -> 0
K11: =H11*I11*J11 -> 0 | L11: =M11-K11 -> 0 | M11: =H11*I11+K11 -> 0 | N11: 1 | O11: =M11*N11 -> 0 | P11: 1 | Q11: =(O11*P11) -> 0 | R11: =M11-Q11 -> 0
K12: =H12*I12*J12 -> 0 | L12: =M12-K12 -> 0 | M12: =H12*I12+K12 -> 0 | N12: 1 | O12: =M12*N12 -> 0 | P12: 1 | Q12: =(O12*P12) -> 0 | R12: =M12-Q12 -> 0
K13: =H13*I13*J13 -> 0 | L13: =M13-K13 -> 0 | M13: =H13*I13+K13 -> 0 | N13: 1 | O13: =M13*N13 -> 0 | P13: 1 | Q13: =(O13*P13) -> 0 | R13: =M13-Q13 -> 0
K14: =H14*I14*J14 -> 0 | L14: =M14-K14 -> 0 | M14: =H14*I14+K14 -> 0 | N14: 1 | O14: =M14*N14 -> 0 | P14: 1 | Q14: =(O14*P14) -> 0 | R14: =M14-Q14 -> 0
K15: =H15*I15*J15 -> 0 | L15: =M15-K15 -> 0 | M15: =H15*I15+K15 -> 0 | N15: 1 | O15: =M15*N15 -> 0 | P15: 1 | Q15: =(O15*P15) -> 0 | R15: =M15-Q15 -> 0
K16: =H16*I16*J16 -> 0 | L16: =M16-K16 -> 0 | M16: =H16*I16+K16 -> 0 | N16: 1 | O16: =M16*N16 -> 0 | P16: 1 | Q16: =(O16*P16) -> 0 | R16: =M16-Q16 -> 0
K17: =H17*I17*J17 -> 0 | L17: =M17-K17 -> 0 | M17: =H17*I17+K17 -> 0 | N17: 1 | O17: =M17*N17 -> 0 | P17: 1 | Q17: =(O17*P17) -> 0 | R17: =M17-Q17 -> 0
K18: =H18*I18*J18 -> 0 | L18: =M18-K18 -> 0 | M18: =H18*I18+K18 -> 0 | N18: 1 | O18: =M18*N18 -> 0 | P18: 1 | Q18: =(O18*P18) -> 0 | R18: =M18-Q18 -> 0
K19: =H19*I19*J19 -> 0 | L19: =M19-K19 -> 0 | M19: =H19*I19+K19 -> 0 | N19: 1 | O19: =M19*N19 -> 0 | P19: 1 | Q19: =(O19*P19) -> 0 | R19: =M19-Q19 -> 0
K20: =H20*I20*J20 -> 0 | L20: =M20-K20 -> 0 | M20: =H20*I20+K20 -> 0 | N20: 1 | O20: =M20*N20 -> 0 | P20: 1 | Q20: =(O20*P20) -> 0 | R20: =M20-Q20 -> 0 | U20: troškovi rada
K21: =H21*I21*J21 -> 0 | L21: =M21-K21 -> 0 | M21: =H21*I21+K21 -> 0 | N21: 1 | O21: =M21*N21 -> 0 | P21: 1 | Q21: =(O21*P21) -> 0 | R21: =M21-Q21 -> 0 | U21: materijal
K22: =H22*I22*J22 -> 0 | L22: =M22-K22 -> 0 | M22: =H22*I22+K22 -> 0 | N22: 1 | O22: =M22*N22 -> 0 | P22: 1 | Q22: =(O22*P22) -> 0 | R22: =M22-Q22 -> 0 | U22: opći troškovi
I23: Ukupno: | K23: =SUM(K9:K22) -> 0 | L23: =SUM(L9:L22) -> 0 | M23: =SUM(M9:M22) -> 0 | O23: =SUM(O9:O22) -> 0 | Q23: =SUM(Q9:Q22) -> 0 | R23: =SUM(R9:R22) -> 0 | U23: Doprinos u naturi
A24: Projektni partner 1 (PP1) | K24: =H24*I24*J24 -> 0 | L24: =M24-K24 -> 0 | M24: =H24*I24+K24 -> 0 | N24: 1 | O24: =M24*N24 -> 0 | P24: 1 | Q24: =(O24*P24) -> 0 | R24: =M24-Q24 -> 0 | U24: pribor
K25: =H25*I25*J25 -> 0 | L25: =M25-K25 -> 0 | M25: =H25*I25+K25 -> 0 | N25: 1 | O25: =M25*N25 -> 0 | P25: 1 | Q25: =(O25*P25) -> 0 | R25: =M25-Q25 -> 0
K26: =H26*I26*J26 -> 0 | L26: =M26-K26 -> 0 | M26: =H26*I26+K26 -> 0 | N26: 1 | O26: =M26*N26 -> 0 | P26: 1 | Q26: =(O26*P26) -> 0 | R26: =M26-Q26 -> 0
K27: =H27*I27*J27 -> 0 | L27: =M27-K27 -> 0 | M27: =H27*I27+K27 -> 0 | N27: 1 | O27: =M27*N27 -> 0 | P27: 1 | Q27: =(O27*P27) -> 0 | R27: =M27-Q27 -> 0
K28: =H28*I28*J28 -> 0 | L28: =M28-K28 -> 0 | M28: =H28*I28+K28 -> 0 | N28: 1 | O28: =M28*N28 -> 0 | P28: 1 | Q28: =(O28*P28) -> 0 | R28: =M28-Q28 -> 0
K29: =H29*I29*J29 -> 0 | L29: =M29-K29 -> 0 | M29: =H29*I29+K29 -> 0 | N29: 1 | O29: =M29*N29 -> 0 | P29: 1 | Q29: =(O29*P29) -> 0 | R29: =M29-Q29 -> 0
K30: =H30*I30*J30 -> 0 | L30: =M30-K30 -> 0 | M30: =H30*I30+K30 -> 0 | N30: 1 | O30: =M30*N30 -> 0 | P30: 1 | Q30: =(O30*P30) -> 0 | R30: =M30-Q30 -> 0
K31: =H31*I31*J31 -> 0 | L31: =M31-K31 -> 0 | M31: =H31*I31+K31 -> 0 | N31: 1 | O31: =M31*N31 -> 0 | P31: 1 | Q31: =(O31*P31) -> 0 | R31: =M31-Q31 -> 0
K32: =H32*I32*J32 -> 0 | L32: =M32-K32 -> 0 | M32: =H32*I32+K32 -> 0 | N32: 1 | O32: =M32*N32 -> 0 | P32: 1 | Q32: =(O32*P32) -> 0 | R32: =M32-Q32 -> 0
K33: =H33*I33*J33 -> 0 | L33: =M33-K33 -> 0 | M33: =H33*I33+K33 -> 0 | N33: 1 | O33: =M33*N33 -> 0 | P33: 1 | Q33: =(O33*P33) -> 0 | R33: =M33-Q33 -> 0
I34: Ukupno: | K34: =SUM(K24:K33) -> 0 | L34: =SUM(L24:L33) -> 0 | M34: =SUM(M24:M33) -> 0 | O34: =SUM(O24:O33) -> 0 | Q34: =SUM(Q24:Q33) -> 0 | R34: =SUM(R24:R33) -> 0
A35: Projektni partner 2 (PP2) | K35: =H35*I35*J35 -> 0 | L35: =M35-K35 -> 0 | M35: =H35*I35+K35 -> 0 | N35: 1 | O35: =M35*N35 -> 0 | P35: 1 | Q35: =(O35*P35) -> 0 | R35: =M35-Q35 -> 0 | U35: pribor
K36: =H36*I36*J36 -> 0 | L36: =M36-K36 -> 0 | M36: =H36*I36+K36 -> 0 | N36: 1 | O36: =M36*N36 -> 0 | P36: 1 | Q36: =(O36*P36) -> 0 | R36: =M36-Q36 -> 0
K37: =H37*I37*J37 -> 0 | L37: =M37-K37 -> 0 | M37: =H37*I37+K37 -> 0 | N37: 1 | O37: =M37*N37 -> 0 | P37: 1 | Q37: =(O37*P37) -> 0 | R37: =M37-Q37 -> 0
K38: =H38*I38*J38 -> 0 | L38: =M38-K38 -> 0 | M38: =H38*I38+K38 -> 0 | N38: 1 | O38: =M38*N38 -> 0 | P38: 1 | Q38: =(O38*P38) -> 0 | R38: =M38-Q38 -> 0
K39: =H39*I39*J39 -> 0 | L39: =M39-K39 -> 0 | M39: =H39*I39+K39 -> 0 | N39: 1 | O39: =M39*N39 -> 0 | P39: 1 | Q39: =(O39*P39) -> 0 | R39: =M39-Q39 -> 0
K40: =H40*I40*J40 -> 0 | L40: =M40-K40 -> 0 | M40: =H40*I40+K40 -> 0 | N40: 1 | O40: =M40*N40 -> 0 | P40: 1 | Q40: =(O40*P40) -> 0 | R40: =M40-Q40 -> 0
K41: =H41*I41*J41 -> 0 | L41: =M41-K41 -> 0 | M41: =H41*I41+K41 -> 0 | N41: 1 | O41: =M41*N41 -> 0 | P41: 1 | Q41: =(O41*P41) -> 0 | R41: =M41-Q41 -> 0
K42: =H42*I42*J42 -> 0 | L42: =M42-K42 -> 0 | M42: =H42*I42+K42 -> 0 | N42: 1 | O42: =M42*N42 -> 0 | P42: 1 | Q42: =(O42*P42) -> 0 | R42: =M42-Q42 -> 0
K43: =H43*I43*J43 -> 0 | L43: =M43-K43 -> 0 | M43: =H43*I43+K43 -> 0 | N43: 1 | O43: =M43*N43 -> 0 | P43: 1 | Q43: =(O43*P43) -> 0 | R43: =M43-Q43 -> 0 | U43: drugo
K44: =H44*I44*J44 -> 0 | L44: =M44-K44 -> 0 | M44: =H44*I44+K44 -> 0 | N44: 1 | O44: =M44*N44 -> 0 | P44: 1 | Q44: =(O44*P44) -> 0 | R44: =M44-Q44 -> 0
K45: =H45*I45*J45 -> 0 | L45: =M45-K45 -> 0 | M45: =H45*I45+K45 -> 0 | N45: 1 | O45: =M45*N45 -> 0 | P45: 1 | Q45: =(O45*P45) -> 0 | R45: =M45-Q45 -> 0
I46: Ukupno: | K46: =SUM(K35:K45) -> 0 | L46: =SUM(L35:L45) -> 0 | M46: =SUM(M35:M45) -> 0 | O46: =SUM(O35:O45) -> 0 | Q46: =SUM(Q35:Q45) -> 0 | R46: =SUM(R35:R45) -> 0
I47: UKUPNO IZRAVNI TROŠKOVI | K47: =K34+K23+K46 -> 0 | L47: =L34+L23+L46 -> 0 | M47: =M34+M23+M46 -> 0 | O47: =O34+O23+O46 -> 0 | Q47: =Q34+Q23+Q46 -> 0 | R47: =R23+R34+R46 -> 0
A51: U | D51: Datum:
D54: Ime i prezime odgovorne ili ovlaštene osobe Nositelja projekta - tiskano
G56: (ako je primjenjivo)
D57: Potpis odgovorne ili ovlaštene osobe Nositelja projekta

Sheet Opci troskovi
D4: Obrazac 1.B. Prijavni obrazac - Proračun projekta - FLAG natječaj za dodjelu potpore u okviru Mjere 2. Unaprjeđenje i promocija sektora ribarstva i akvakulture
A7: Naziv projekta:
A8: Nositelj projekta
A9: Projektni partner 1:
A10: Projektni partner 2:
A12: OPĆI TROŠKOVI PROJEKTA | H12: Iznos troška (u EUR)
A13: Nositelj aktivnosti | B13: Vrsta troška (odabrati iz padajućeg izbornika) | C13: Naziv i kratki opis troška | D13: Naziv ponuditelja/ dobavljača/pružatelja usluge (obveznici javne nabave upisati NP ako je primjenjivo) | E13: Broj ponude /ugovora/ predračuna/ računa | F13: Jedinica mjere (npr.komad, sat,par, usluga sl.) | G13: Količina/ broj komada, broj sati | H13: Jedinična cijena bez PDV-a (Bruto iznos-Ug. o djelu/Autorski ugovor) | I13: % PDV-a (upisati primjenjivu stopu: 0%, 5%, 13%, 25% ili drugo) Napomena: ako je nositelj projekta ili projektni partner obveznik PDV-a i ima pravo na povrat PDV-a upisati 0 | J13: Iznos PDV-a (ako primjenjivo) | K13: Ukupna vrijednost bez PDV-a | L13: Ukupni iznos uključujući PDV (ako je PDV prihvatljiv trošak) | M13: Ukupno prihvatljivi Opći troškovi | N13: Intenzitet javne potpore. | O13: Iznos sufinanciranja iz javnog izvora (prije primjene ograničenja) | P13: Vlastita sredstva (prije primjene ograničenja) | Q13: Primjedbe/ Napomene
A14: Nositelj projekta (Glavni partner - GP) | J14: =G14*H14*I14 -> 0 | K14: =L14-J14 -> 0 | L14: =G14*H14*(1+I14) -> 0 | M14: =L14 -> 0 | N14: 1 | O14: =(M14*N14) -> 0 | P14: =L14-O14 -> 0
J15: =G15*H15*I15 -> 0 | K15: =L15-J15 -> 0 | L15: =G15*H15*(1+I15) -> 0 | M15: =L15 -> 0 | N15: 1 | O15: =(M15*N15) -> 0 | P15: =L15-O15 -> 0
J16: =G16*H16*I16 -> 0 | K16: =L16-J16 -> 0 | L16: =G16*H16*(1+I16) -> 0 | M16: =L16 -> 0 | N16: 1 | O16: =(M16*N16) -> 0 | P16: =L16-O16 -> 0
J17: =G17*H17*I17 -> 0 | K17: =L17-J17 -> 0 | L17: =G17*H17*(1+I17) -> 0 | M17: =L17 -> 0 | N17: 1 | O17: =(M17*N17) -> 0 | P17: =L17-O17 -> 0
J18: =G18*H18*I18 -> 0 | K18: =L18-J18 -> 0 | L18: =G18*H18*(1+I18) -> 0 | M18: =L18 -> 0 | N18: 1 | O18: =(M18*N18) -> 0 | P18: =L18-O18 -> 0
H19: Ukupno: | J19: =SUM(J14:J18) -> 0 | K19: =SUM(K14:K18) -> 0 | L19: =SUM(L14:L18) -> 0 | M19: =SUM(M14:M18) -> 0 | O19: =SUM(O14:O18) -> 0 | P19: =SUM(P14:P18) -> 0
A20: Projektni partner 1 (PP1) | J20: =G20*H20*I20 -> 0 | K20: =L20-J20 -> 0 | L20: =G20*H20*(1+I20) -> 0 | M20: =L20 -> 0 | N20: 1 | O20: =(M20*N20) -> 0 | P20: =L20-O20 -> 0
J21: =G21*H21*I21 -> 0 | K21: =L21-J21 -> 0 | L21: =G21*H21*(1+I21) -> 0 | M21: =L21 -> 0 | N21: 1 | O21: =(M21*N21) -> 0 | P21: =L21-O21 -> 0
J22: =G22*H22*I22 -> 0 | K22: =L22-J22 -> 0 | L22: =G22*H22*(1+I22) -> 0 | M22: =L22 -> 0 | N22: 1 | O22: =(M22*N22) -> 0 | P22: =L22-O22 -> 0
J23: =G23*H23*I23 -> 0 | K23: =L23-J23 -> 0 | L23: =G23*H23*(1+I23) -> 0 | M23: =L23 -> 0 | N23: 1 | O23: =(M23*N23) -> 0 | P23: =L23-O23 -> 0
J24: =G24*H24*I24 -> 0 | K24: =L24-J24 -> 0 | L24: =G24*H24*(1+I24) -> 0 | M24: =L24 -> 0 | N24: 1 | O24: =(M24*N24) -> 0 | P24: =L24-O24 -> 0
H25: Ukupno: | J25: =SUM(J20:J24) -> 0 | K25: =SUM(K20:K24) -> 0 | L25: =SUM(L20:L24) -> 0 | M25: =SUM(M20:M24) -> 0 | O25: =SUM(O20:O24) -> 0 | P25: =SUM(P20:P24) -> 0
A26: Projektni partner 2 (PP2) | J26: =G26*H26*I26 -> 0 | K26: =L26-J26 -> 0 | L26: =G26*H26*(1+I26) -> 0 | M26: =L26 -> 0 | N26: 1 | O26: =(M26*N26) -> 0 | P26: =L26-O26 -> 0
J27: =G27*H27*I27 -> 0 | K27: =L27-J27 -> 0 | L27: =G27*H27*(1+I27) -> 0 | M27: =L27 -> 0 | N27: 1 | O27: =(M27*N27) -> 0 | P27: =L27-O27 -> 0
J28: =G28*H28*I28 -> 0 | K28: =L28-J28 -> 0 | L28: =G28*H28*(1+I28) -> 0 | M28: =L28 -> 0 | N28: 1 | O28: =(M28*N28) -> 0 | P28: =L28-O28 -> 0
J29: =G29*H29*I29 -> 0 | K29: =L29-J29 -> 0 | L29: =G29*H29*(1+I29) -> 0 | M29: =L29 -> 0 | N29: 1 | O29: =(M29*N29) -> 0 | P29: =L29-O29 -> 0
J30: =G30*H30*I30 -> 0 | K30: =L30-J30 -> 0 | L30: =G30*H30*(1+I30) -> 0 | M30: =L30 -> 0 | N30: 1 | O30: =(M30*N30) -> 0 | P30: =L30-O30 -> 0
H31: Ukupno: | J31: =SUM(J26:J30) -> 0 | K31: =SUM(K26:K30) -> 0 | L31: =SUM(L26:L30) -> 0 | M31: =SUM(M26:M30) -> 0 | O31: =SUM(O26:O30) -> 0 | P31: =SUM(P26:P30) -> 0
H32: UKUPNO OPĆI TROŠKOVI | J32: =J25+J19+J31 -> 0 | K32: =K25+K19+K31 -> 0 | L32: =L25+L19+L31 -> 0 | M32: =M25+M19+M31 -> 0 | O32: =O25+O19+O31 -> 0 | P32: =P25+P19+P31 -> 0
A36: U | C36: Datum:
C39: Ime i prezime odgovorne ili ovlaštene osobe Nositelja projekta - tiskano
F41: M.P. | G41: (ako je primjenjivo)
C42: Potpis odgovorne ili ovlaštene osobe Nositelja projekta

Sheet Ukupni troškovi projekta
A1: UKUPNI TROŠKOVI PROJEKTA
B3: UKUPNI IZNOS PRIHVATLJIVIH IZDATAKA I POTPORE
B4: IZRAČUN PRIHVATLJIVIH TROŠKOVA PROJEKTA - PRIMJENA INTENZITETA I JEDINSTVENE STOPE OD 12%
B5: Izravni troškovi - Aktivnost A.
B6: A. | C6: Najviši iznos javne potpore - aktivnost A. | E6: 10000
C7: Prihvatljivi izravni troškovi - aktivnost A. | E7: =SUMIF('Izravni troškovi'!$B$9:$B$45,"A.*",'Izravni troškovi'!$O$9:$O$45) -> 0
C8: Iznos sufinanciranja iz javne potpore | E8: =MIN(E6,SUMIF('Izravni troškovi'!$B$9:$B$45,"A.*",'Izravni troškovi'!$Q$9:$Q$45)) -> 0
C9: Neodobreni izravni troškovi - aktivnost A. | E9: =MAX(0,E7-E8) -> 0
B10: Izravni troškova - Aktivnost B.
B11: B. | C11: Najviši iznos javne potpore - aktivnost B. | E11: 10000
C12: Prihvatljivi izravni troškovi aktivnost B. | E12: =SUMIF('Izravni troškovi'!$B$9:$B$45,"B.*",'Izravni troškovi'!$O$9:$O$45) -> 0
C13: Iznos sufinanciranja iz javne potpore | E13: =MIN(E11,SUMIF('Izravni troškovi'!$B$9:$B$45,"B.*",'Izravni troškovi'!$Q$9:$Q$45)) -> 0
C14: Neodobreni izravni troškovi - aktivnost B. | E14: =MAX(0,E12-E13) -> 0
B15: Izravni troškovi - Aktivnost C.
B16: C. | C16: Najviši iznos javne potpore - aktivnost C. | E16: 10000
C17: Prihvatljivi izravni troškovi - aktivnost C. | E17: =SUMIF('Izravni troškovi'!$B$9:$B$45,"C.*",'Izravni troškovi'!$O$9:$O$45) -> 0
C18: Iznos sufinanciranja iz javne potpore | E18: =MIN(E16,SUMIF('Izravni troškovi'!$B$9:$B$45,"C.*",'Izravni troškovi'!$Q$9:$Q$45)) -> 0
C19: Neodobreni izravni troškovi - aktivnost C. | E19: =MAX(0,E17-E18) -> 0
B20: Izravni troškovi - Aktivnost D.
B21: D. | C21: Najviši iznos javne potpore - aktivnost D. | E21: 30000
C22: Prihvatljivi izravni troškovi - aktivnost D. | E22: =SUMIF('Izravni troškovi'!$B$9:$B$45,"D.*",'Izravni troškovi'!$O$9:$O$45) -> 0
C23: Iznos sufinanciranja iz javne potpore | E23: =MIN(E21,SUMIF('Izravni troškovi'!$B$9:$B$45,"D.*",'Izravni troškovi'!$Q$9:$Q$45)) -> 0
C24: Neodobreni izravni troškovi - aktivnost D. | E24: =MAX(0,E22-E23) -> 0
B25: Izravni troškovi - Aktivnost E.
B26: E. | C26: Najviši iznos javne potpore - aktivnost E. | E26: 50000
C27: Prihvatljivi izravni troškovi - aktivnost E. | E27: =SUMIF('Izravni troškovi'!$B$9:$B$45,"E.*",'Izravni troškovi'!$O$9:$O$45) -> 0
C28: Iznos sufinanciranja iz javne potpore | E28: =MIN(E26,SUMIF('Izravni troškovi'!$B$9:$B$45,"E.*",'Izravni troškovi'!$Q$9:$Q$45)) -> 0
C29: Neodobreni izravni troškovi - aktivnost E. | E29: =MAX(0,E27-E28) -> 0
B30: Izravni troškovi - Aktivnost F.
B31: F. | C31: Najviši iznos javne potpore - aktivnost F. | E31: 80000
C32: Prihvatljivi izravni troškovi - aktivnost F. | E32: =SUMIF('Izravni troškovi'!$B$9:$B$45,"F.*",'Izravni troškovi'!$O$9:$O$45) -> 0
C33: Iznos sufinanciranja iz javne potpore | E33: =MIN(E31,SUMIF('Izravni troškovi'!$B$9:$B$45,"F.*",'Izravni troškovi'!$Q$9:$Q$45)) -> 0
C34: Neodobreni izravni troškovi - aktivnost F. | E34: =MAX(0,E32-E33) -> 0
B35: Izravni troškovi - Aktivnost G.
B36: G. | C36: Najviši iznos javne potpore - aktivnost G. | E36: 7000
C37: Prihvatljivi izravni troškovi - aktivnost G. | E37: =SUMIF('Izravni troškovi'!$B$9:$B$45,"G.*",'Izravni troškovi'!$O$9:$O$45) -> 0
C38: Iznos sufinanciranja iz javne potpore | E38: =MIN(E36,SUMIF('Izravni troškovi'!$B$9:$B$45,"G.*",'Izravni troškovi'!$Q$9:$Q$45)) -> 0
C39: Neodobreni izravni troškovi - aktivnost G. | E39: =MAX(0,E37-E38) -> 0
B40: Izravni troškovi - Aktivnost H.
B41: H. | C41: Najviši iznos javne potpore - aktivnost H. | E41: 4000
C42: Prihvatljivi izravni troškovi - aktivnost H. | E42: =SUMIF('Izravni troškovi'!$B$9:$B$45,"H.*",'Izravni troškovi'!$O$9:$O$45) -> 0
C43: Iznos sufinanciranja iz javne potpore | E43: =MIN(E41,SUMIF('Izravni troškovi'!$B$9:$B$45,"H.*",'Izravni troškovi'!$Q$9:$Q$45)) -> 0
C44: Neodobreni izravni troškovi - Aktivnost H. | E44: =MAX(0,E42-E43) -> 0
B45: Izravni troškovi - Aktivnost I.
B46: I. | C46: Najviši iznos javne potpore - aktivnost I. | E46: 4000
C47: Prihvatljivi izravni troškovi - aktivnost I. | E47: =SUMIF('Izravni troškovi'!$B$9:$B$45,"I.*",'Izravni troškovi'!$O$9:$O$45) -> 0
C48: Iznos sufinanciranja iz javne potpore | E48: =MIN(E46,SUMIF('Izravni troškovi'!$B$9:$B$45,"I.*",'Izravni troškovi'!$Q$9:$Q$45)) -> 0
C49: Neodobreni izravni troškovi - aktivnost I. | E49: =MAX(0,E47-E48) -> 0
B50: Izravni troškovi -Aktivnost J.
B51: J. | C51: Najviši iznos javne potpore - aktivnost J. | E51: 5000
C52: Prihvatljivi izravni troškovi - aktivnost J. | E52: =SUMIF('Izravni troškovi'!$B$9:$B$45,"J.*",'Izravni troškovi'!$O$9:$O$45) -> 0
C53: Iznos sufinanciranja iz javne potpore | E53: =MIN(E51,SUMIF('Izravni troškovi'!$B$9:$B$45,"J.*",'Izravni troškovi'!$Q$9:$Q$45)) -> 0
C54: Neodobreni izravni troškovi - aktivnost J. | E54: =MAX(0,E52-E53) -> 0
B55: Izravni troškovi -Aktivnost K.
B56: K. | C56: Najviši iznos javne potpore - aktivnost K. | E56: 2000
C57: Prihvatljivi izravni troškovi - aktivnost K. | E57: =SUMIF('Izravni troškovi'!$B$9:$B$45,"K.*",'Izravni troškovi'!$O$9:$O$45) -> 0
C58: Iznos sufinanciranja iz javne potpore | E58: =MIN(E56,SUMIF('Izravni troškovi'!$B$9:$B$45,"K.*",'Izravni troškovi'!$Q$9:$Q$45)) -> 0
C59: Neodobreni izravni troškovi - Aktivnost K. | E59: =MAX(0,E57-E58) -> 0
B60: 1. | C60: Ukupno prihvatljivi izravni troškovi projekta (bez općih troškova), aktivnosti A. B. C. D. E. F. G. H. I. J. K. sufinancirani iz javne potpore | E60: =E8+E13+E18+E23+E28+E38+E43+E48+E53+E58+E33 -> 0
B61: 2. | C61: Ukupni neodobreni izravni troškovi projekta (bez općih troškova) | E61: =E9+E14+E19+E24+E29+E34+E39+E44+E49+E54+E59 -> 0
B62: Opći troškovi | C62: Opći troškovi
B63: 3. | C63: Prihvatljivi iznos općih troškova. 12% vrijednosti ukupno prihvatljivih troškova projekta bez općih troškova | E63: =E60*12% -> 0
B64: 4. | C64: Ukupno opći troškovi-Sufinancirani iz javne potpore (T- Opći troškovi stupac O) | E64: ='Opci troskovi'!O32 -> 0
B65: 5. | C65: Prihvatljivi opći troškovi. | E65: =MIN(E63,E64) -> 0
B66: 6. | C66: Neodobreni opći troškovi | E66: =MAX(0,E64-E65) -> 0
B67: 7. | C67: Ukupan iznos prihvatljivih troškova projekta nakon primjene intenziteta i jedinstvene stope od 12% | E67: =E60+E65 -> 0
B68: IZRAČUN POTPORE
B69: 8. | C69: Najviša vrijednost potpore 80.000,00 EUR po nositelju projekta. | E69: 80000
B70: 9. | C70: Traženi iznos potpore: Maksimalni iznos javne potpore iznosi 80.000,00 EUR. U slučaju da je ukupni iznos prihvatljivih troškova nakon primjene intenziteta (redak 7.), jednak ili veći od maksimalnog iznosa javne potpore propisan FLAG-natječajem (redak 8.) upisati najviši iznos potpore po nositelju projekta, tj. 80.000,00 EUR. U slučaju da ukupan iznos javne potpore, nakon primjene intenziteta (redak 7.), ne prelazi maksimalni iznos potpore propisan FLAG natječajem - upisati iznos iz retka 7.
C71: EU sredstva (65%) | E71: =E70*65% -> 0
C72: RH sredstva (35%) | E72: =E70*35% -> 0
B73: REKAPITULACIJA TROŠKOVA
B74: 10. | C74: UKUPNO PRIHVATLJIVI TROŠKOVI PROJEKTA (Izravni+Opći) | E74: =E60+E65 -> 0
B75: 11. | C75: UKUPNO NEODOBRENI/NEPRIHVATLJIVI TROŠKOVI PROJEKTA | E75: =E76-E74 -> 0
B76: 12. | C76: UKUPNI TROŠKOVI PROJEKTA | E76: ='Izravni troškovi'!M47+'Opci troskovi'!L32 -> 0
B77: 13. | C77: ZATRAŽEN IZNOS POTPORE | E77: =E70 -> 0
B78: 14. | C78: VLASTITA SREDSTVA | E78: =E76-E77 -> 0
C81: U______________, Datum: ___________________
C83: Ime i prezime odgovorne ili ovlaštene osobe Nositelja projekta - tiskano:________________________________
C85: Potpis odgovorne ili ovlaštene osobe Nositelja projekta:____________________________________________ | D85: M.P. (ako je primjenjivo)

Sheet RM
A1: Stope sufinanciranja | B1: 0
B2: 0.5
B3: 1
A4: Stopa PDV-a | B4: 0
B5: 0.05
B6: 0.13
B7: 0.25
A8: Vrsta troška | B8: IZRAVNI
B9: OPĆI
A10: Prihvatljive aktivnosti | B10: A. Izgradnja i/ili rekonstrukcija i/ili opremanje stacionarnih objekta/prostora za maloprodaju proizvoda ribarstva i akvakulture i/ili izgradnja i/ili rekonstrukcija i/ili opremanje stacionarnih objekata/ prostora za konzumaciju i/ili skladištenje lokalnih proizvoda ribarstva i akvakulture
B11: B. Nabava i/ili opremanje montažnih/mobilnih ribarnica (kontejnerskog tipa, specijalizirano vozilo za prodaju ribe – tzv. „ambulantna“ prodaja)
B12: C. Nabava i/ili opremanje mobilnih (vozila, prikolice i sl.) ili montažnih (kontejnerskog tipa i sl.) objekata brze prehrane za konzumaciju proizvoda ribarstva i akvakulture (najmanje 50% ponude hrane)
B13: D. Izgradnja i/ili rekonstrukcija i/ili opremanje objekata ili prostora za skladištenje ribolovne opreme i alata
B14: E. Nabava opreme za unaprjeđenje vrijednosti proizvoda ribarstva i akvakulture (ledomati i sl.)
B15: F. Građenje i/ili opremanje kuhinja u odgojno-obrazovnim ustanovama i/ili ostalim javnim ustanovama i/ili poboljšanje uvjeta za pripremu proizvoda ribarstva i akvakulture u odgojno-obrazovnim i/ili ostalim javnim ustanovama (rekonstrukcija prostora unutar kojih se planira držati/koristiti nabavljena oprema)
B16: G. Opremanje ugostiteljskog objekta uključujući nabavu opreme i/ili IKT rješenja za prihvat i/ili pripremu i/ili obradu i/ili očuvanje i/ili skladištenje i/ili prezentaciju i/ili transport (za potrebe ugostiteljskog objekta) proizvoda ribarstva i akvakulture
B17: H. Digitalizacija u području podizanja svijesti o konzumaciji proizvoda ribarstva i akvakulture i/ili uvođenje inovativnih sustava informiranja o proizvodima ribarstva i akvakulture (IKT rješenja, digitalne platforme) i sl.
B18: I. Edukativne i/ili promotivne aktivnosti usmjerene promicanju konzumacije proizvoda ribarstva i akvakulture
B19: J. Ulaganja u OIE u objektima ili prostorima za skladištenje ribolovne opreme i alata i/ili prodajnim prostorima proizvoda ribarstva i akvakulture
B20: K. Marketinške aktivnosti i vidljivost
A24: Vrsta troškova | B24: A.1. Troškovi izgradnje i/ili rekonstrukcije i/ili opremanja stacionarnih objekta/prostora za maloprodaju proizvoda ribarstva i akvakulture i/ili izgradnja i/ili rekonstrukcija i/ili opremanje stacionarnih objekata/ prostora za konzumaciju i/ili skladištenje lokalnih proizvoda ribarstva i akvakulture.
B25: B.1. Troškovi nabave i/ili opremanja montažnih/mobilnih ribarnica (kontejnerskog tipa, specijalizirano vozilo za prodaju ribe – tzv. „ambulantna“ prodaja)
B26: C.1. Troškovi nabave i/ili opremanja mobilnih (vozila, prikolica i sl.) objekata brze prehrane za konzumaciju proizvoda ribarstva i akvakulture (najmanje 50% ponude hrane).
B27: C.2.Troškovi nabave i/ili opremanje montažnih (kontejnerskog tipa i sl.) objekata brze prehrane za konzumaciju proizvoda ribarstva i akvakulture (najmanje 50% ponude hrane).
B28: D.1. Troškovi izgradnje i/ili rekonstrukcije i/ili opremanja objekata ili prostora za skladištenje ribolovne opreme i alata
B29: E.1. Troškovi nabave opreme za unaprjeđenje vrijednosti proizvoda ribarstva i akvakulture (ledomati i sl.)
B30: F.1. Trošak građenja i/ili opremanja kuhinja u odgojno-obrazovnim ustanovama i/ili ostalim javnim ustanovama i/ili poboljšanje uvjeta za pripremu proizvoda ribarstva i akvakulture u odgojno-obrazovnim i/ili ostalim javnim ustanovama (rekonstrukcija prostora unutar kojih se planira držati/koristiti nabavljena oprema).
B31: G.1. Trošak opremanja ugostiteljskog objekta uključujući nabavu opreme i/ili IKT rješenja za prihvat i/ili pripremu i/ili obradu i/ili očuvanje i/ili skladištenje i/ili prezentaciju i/ili transport (za potrebe ugostiteljskog objekta) proizvoda ribarstva i akvakulture;
B32: H.1. Trošak digitalizacije u području podizanja svijesti o konzumaciji proizvoda ribarstva i akvakulture i/ili uvođenje inovativnih sustava informiranja o proizvodima ribarstva i akvakulture (IKT rješenja, digitalne platforme) i sl.
B33: I.1. Trošak edukativnih i/ili promotivnih aktivnosti usmjerene promicanju konzumacije proizvoda ribarstva i akvakulture
B34: J.1.Trošak ulaganja u OIE u objektima ili prostorima za skladištenje ribolovne opreme i alata i/ili prodajnim prostorima proizvoda ribarstva i akvakulture
B35: K.1. Trošak marketinških aktivnosti i vidljivosti
A57: Opći troškovi
B58: 1. Troškovi izrade studije utjecaja na okoliš
B59: 2. Troškovi izrade procjene o potrebi izrade studije
B60: 3. Trošak izrade elaborata zaštite okoliša
B61: 4. Troškovi pripreme dokumentacije za FLAG (konzultantske usluge za pripremu Zahtjeva za potporu i Zahtjeva za isplatu),
B62: 5. Troškovi pripreme projektno-tehničke dokumentacije
B63: 6. Troškovi geodetskih usluga, elaborata, certifikata
B64: 7. Troškovi nadzora građenja (rekonstrukcije)
B65: 8. Troškovi pripreme dokumentacije i provedbe postupka nabave i troškovi provedbe mjera informiranja i promidžbe sukladno Pravilima i uputama za provedbu mjera informiranja i promidžbe u programskom razdoblju 2021. – 2027
A67: Prihvatljivi troškovi | B67: 1 | C67: DA
B68: 0 | C68: NE
